BEGIN:VCALENDAR
VERSION:2.0
PRODID:-//Tukios.com/
BEGIN:VEVENT
UID:7a84b950-6ac3-4a21-baec-999ba10c0777@www.kesslermaguire.com
DTSTAMP:20260421T084724Z
DTSTART:20260502T160000Z
DTEND:20260502T170000Z
SUMMARY:Memorial Service
DESCRIPTION:
URL:https://www.kesslermaguire.com/obituaries/helen-a-mikle
LOCATION:Saint Peter's Lutheran Church 530 Victoria Street  Saint Paul MN 
	55101
GEO:44.9253829;-93.1360833
END:VEVENT
END:VCALENDAR